BEGIN:VCALENDAR
PRODID:-//eluceo/ical//2.0/EN
VERSION:2.0
CALSCALE:GREGORIAN
BEGIN:VEVENT
UID:73d9c4cd3d5314d4c350f3c89266770b
DTSTAMP:20260424T141006Z
SUMMARY:Top Gun: Maverick
DTSTART;TZID=Europe/Prague:20260514T203000
DTEND;TZID=Europe/Prague:20260514T224100
LOCATION:Kino Aero
END:VEVENT
END:VCALENDAR
BEGIN:VCALENDAR
PRODID:-//eluceo/ical//2.0/EN
VERSION:2.0
CALSCALE:GREGORIAN
BEGIN:VEVENT
UID:8fbe24379bac5069b4c8cdbafba619dd
DTSTAMP:20260424T141006Z
SUMMARY:Top Gun: Maverick
DTSTART;TZID=Europe/Prague:20260514T203000
DTEND;TZID=Europe/Prague:20260514T224100
LOCATION:Kino Aero
END:VEVENT
END:VCALENDAR
