BEGIN:VCALENDAR
PRODID:-//eluceo/ical//2.0/EN
VERSION:2.0
CALSCALE:GREGORIAN
BEGIN:VEVENT
UID:fc883d2e6eb8390d9c1b00a2dcc435d7
DTSTAMP:20260425T153257Z
SUMMARY:Pillion
DTSTART;TZID=Europe/Prague:20260529T143000
DTEND;TZID=Europe/Prague:20260529T161300
LOCATION:Bio Central
END:VEVENT
END:VCALENDAR
BEGIN:VCALENDAR
PRODID:-//eluceo/ical//2.0/EN
VERSION:2.0
CALSCALE:GREGORIAN
BEGIN:VEVENT
UID:2644ce0b08e78081e44ff51a222ed45a
DTSTAMP:20260425T153257Z
SUMMARY:Pillion
DTSTART;TZID=Europe/Prague:20260529T143000
DTEND;TZID=Europe/Prague:20260529T161300
LOCATION:Bio Central
END:VEVENT
END:VCALENDAR
