BEGIN:VCALENDAR
PRODID:-//eluceo/ical//2.0/EN
VERSION:2.0
CALSCALE:GREGORIAN
BEGIN:VEVENT
UID:094183dea7929c3b0bf365583d145122
DTSTAMP:20260424T141032Z
SUMMARY:Top Gun: Maverick
DTSTART;TZID=Europe/Prague:20260514T200000
DTEND;TZID=Europe/Prague:20260514T221100
LOCATION:Univerzitní kino Scala
END:VEVENT
END:VCALENDAR
BEGIN:VCALENDAR
PRODID:-//eluceo/ical//2.0/EN
VERSION:2.0
CALSCALE:GREGORIAN
BEGIN:VEVENT
UID:ec3524e52a03deef8c78f29f0bd3161e
DTSTAMP:20260424T141032Z
SUMMARY:Top Gun: Maverick
DTSTART;TZID=Europe/Prague:20260514T200000
DTEND;TZID=Europe/Prague:20260514T221100
LOCATION:Univerzitní kino Scala
END:VEVENT
END:VCALENDAR
