BEGIN:VCALENDAR
PRODID:-//eluceo/ical//2.0/EN
VERSION:2.0
CALSCALE:GREGORIAN
BEGIN:VEVENT
UID:737acbd983fe64d07ec46b3e3246dbc2
DTSTAMP:20260425T153252Z
SUMMARY:Pillion
DTSTART;TZID=Europe/Prague:20260504T201500
DTEND;TZID=Europe/Prague:20260504T215800
LOCATION:Bio Oko
END:VEVENT
END:VCALENDAR
BEGIN:VCALENDAR
PRODID:-//eluceo/ical//2.0/EN
VERSION:2.0
CALSCALE:GREGORIAN
BEGIN:VEVENT
UID:ea1f5d5a320a61489bf4ec5eef6c657d
DTSTAMP:20260425T153252Z
SUMMARY:Pillion
DTSTART;TZID=Europe/Prague:20260504T201500
DTEND;TZID=Europe/Prague:20260504T215800
LOCATION:Bio Oko
END:VEVENT
END:VCALENDAR
