BEGIN:VCALENDAR
PRODID:-//eluceo/ical//2.0/EN
VERSION:2.0
CALSCALE:GREGORIAN
BEGIN:VEVENT
UID:d97b5fddc289f0357aac04324c7892d8
DTSTAMP:20260425T153257Z
SUMMARY:Pillion
DTSTART;TZID=Europe/Prague:20260506T203000
DTEND;TZID=Europe/Prague:20260506T221300
LOCATION:Kino Světozor
END:VEVENT
END:VCALENDAR
BEGIN:VCALENDAR
PRODID:-//eluceo/ical//2.0/EN
VERSION:2.0
CALSCALE:GREGORIAN
BEGIN:VEVENT
UID:5608abbb15294730a49b710faa090509
DTSTAMP:20260425T153257Z
SUMMARY:Pillion
DTSTART;TZID=Europe/Prague:20260506T203000
DTEND;TZID=Europe/Prague:20260506T221300
LOCATION:Kino Světozor
END:VEVENT
END:VCALENDAR
