BEGIN:VCALENDAR
PRODID:-//eluceo/ical//2.0/EN
VERSION:2.0
CALSCALE:GREGORIAN
BEGIN:VEVENT
UID:f4cf179218333041570faec080396ebc
DTSTAMP:20260425T154107Z
SUMMARY:EPiC: Elvis Presley in Concert
DTSTART;TZID=Europe/Prague:20260504T150000
DTEND;TZID=Europe/Prague:20260504T163600
LOCATION:Bio Oko
END:VEVENT
END:VCALENDAR
BEGIN:VCALENDAR
PRODID:-//eluceo/ical//2.0/EN
VERSION:2.0
CALSCALE:GREGORIAN
BEGIN:VEVENT
UID:a3c4a7e167cdc03c8b939f4608fb7389
DTSTAMP:20260425T154107Z
SUMMARY:EPiC: Elvis Presley in Concert
DTSTART;TZID=Europe/Prague:20260504T150000
DTEND;TZID=Europe/Prague:20260504T163600
LOCATION:Bio Oko
END:VEVENT
END:VCALENDAR
