BEGIN:VCALENDAR
PRODID:-//eluceo/ical//2.0/EN
VERSION:2.0
CALSCALE:GREGORIAN
BEGIN:VEVENT
UID:ae43d0731dd9c55aeaef254fe4e72f4d
DTSTAMP:20260424T140609Z
SUMMARY:Top Gun: Maverick
DTSTART;TZID=Europe/Prague:20260513T203000
DTEND;TZID=Europe/Prague:20260513T224100
LOCATION:Bio Central
END:VEVENT
END:VCALENDAR
BEGIN:VCALENDAR
PRODID:-//eluceo/ical//2.0/EN
VERSION:2.0
CALSCALE:GREGORIAN
BEGIN:VEVENT
UID:aa89c71a5dc1b1c4805fa2d2efd82886
DTSTAMP:20260424T140609Z
SUMMARY:Top Gun: Maverick
DTSTART;TZID=Europe/Prague:20260513T203000
DTEND;TZID=Europe/Prague:20260513T224100
LOCATION:Bio Central
END:VEVENT
END:VCALENDAR
