BEGIN:VCALENDAR
PRODID:-//eluceo/ical//2.0/EN
VERSION:2.0
CALSCALE:GREGORIAN
BEGIN:VEVENT
UID:412f56258b7c884f8d92a7b1be547fe4
DTSTAMP:20260421T085757Z
SUMMARY:Pillion
DTSTART;TZID=Europe/Prague:20260314T201500
DTEND;TZID=Europe/Prague:20260314T215800
LOCATION:Kino Aero
END:VEVENT
END:VCALENDAR
BEGIN:VCALENDAR
PRODID:-//eluceo/ical//2.0/EN
VERSION:2.0
CALSCALE:GREGORIAN
BEGIN:VEVENT
UID:ec7f3821a97532ef9a1b669ff8384fa9
DTSTAMP:20260421T085757Z
SUMMARY:Pillion
DTSTART;TZID=Europe/Prague:20260314T201500
DTEND;TZID=Europe/Prague:20260314T215800
LOCATION:Kino Aero
END:VEVENT
END:VCALENDAR
