BEGIN:VCALENDAR
PRODID:-//eluceo/ical//2.0/EN
VERSION:2.0
CALSCALE:GREGORIAN
BEGIN:VEVENT
UID:02e6ba45488589b21e39e934a08b85f8
DTSTAMP:20260421T091039Z
SUMMARY:Pillion
DTSTART;TZID=Europe/Prague:20260322T171500
DTEND;TZID=Europe/Prague:20260322T185800
LOCATION:Kino Aero
END:VEVENT
END:VCALENDAR
BEGIN:VCALENDAR
PRODID:-//eluceo/ical//2.0/EN
VERSION:2.0
CALSCALE:GREGORIAN
BEGIN:VEVENT
UID:914fe795cec35e1ca93aa5c73e4617dc
DTSTAMP:20260421T091039Z
SUMMARY:Pillion
DTSTART;TZID=Europe/Prague:20260322T171500
DTEND;TZID=Europe/Prague:20260322T185800
LOCATION:Kino Aero
END:VEVENT
END:VCALENDAR
