BEGIN:VCALENDAR
PRODID:-//eluceo/ical//2.0/EN
VERSION:2.0
CALSCALE:GREGORIAN
BEGIN:VEVENT
UID:5dc9314aaf8760478b2195f3660abfeb
DTSTAMP:20260425T191733Z
SUMMARY:Dva prokurátoři
DTSTART;TZID=Europe/Prague:20260429T130000
DTEND;TZID=Europe/Prague:20260429T145800
LOCATION:Kino Lucerna
END:VEVENT
END:VCALENDAR
BEGIN:VCALENDAR
PRODID:-//eluceo/ical//2.0/EN
VERSION:2.0
CALSCALE:GREGORIAN
BEGIN:VEVENT
UID:57a7dae6550916c73974eb4b308b2fa9
DTSTAMP:20260425T191733Z
SUMMARY:Dva prokurátoři
DTSTART;TZID=Europe/Prague:20260429T130000
DTEND;TZID=Europe/Prague:20260429T145800
LOCATION:Kino Lucerna
END:VEVENT
END:VCALENDAR
