BEGIN:VCALENDAR
PRODID:-//eluceo/ical//2.0/EN
VERSION:2.0
CALSCALE:GREGORIAN
BEGIN:VEVENT
UID:9713b049aa510e512c468bf544ebf9ab
DTSTAMP:20260425T193657Z
SUMMARY:Ďábel nosí Pradu 2
DTSTART;TZID=Europe/Prague:20260430T203000
DTEND;TZID=Europe/Prague:20260430T223000
LOCATION:Kino Lucerna
END:VEVENT
END:VCALENDAR
BEGIN:VCALENDAR
PRODID:-//eluceo/ical//2.0/EN
VERSION:2.0
CALSCALE:GREGORIAN
BEGIN:VEVENT
UID:09069f4939232913094d25867d13fcdc
DTSTAMP:20260425T193657Z
SUMMARY:Ďábel nosí Pradu 2
DTSTART;TZID=Europe/Prague:20260430T203000
DTEND;TZID=Europe/Prague:20260430T223000
LOCATION:Kino Lucerna
END:VEVENT
END:VCALENDAR
