BEGIN:VCALENDAR
PRODID:-//eluceo/ical//2.0/EN
VERSION:2.0
CALSCALE:GREGORIAN
BEGIN:VEVENT
UID:ad9184852162e476131d1600010eefdc
DTSTAMP:20260426T010657Z
SUMMARY:Norimberk
DTSTART;TZID=Europe/Prague:20260427T143000
DTEND;TZID=Europe/Prague:20260427T165800
LOCATION:Kino Světozor
END:VEVENT
END:VCALENDAR
BEGIN:VCALENDAR
PRODID:-//eluceo/ical//2.0/EN
VERSION:2.0
CALSCALE:GREGORIAN
BEGIN:VEVENT
UID:9dc33a29335f7deef4226216fd12a605
DTSTAMP:20260426T010657Z
SUMMARY:Norimberk
DTSTART;TZID=Europe/Prague:20260427T143000
DTEND;TZID=Europe/Prague:20260427T165800
LOCATION:Kino Světozor
END:VEVENT
END:VCALENDAR
