BEGIN:VCALENDAR
PRODID:-//eluceo/ical//2.0/EN
VERSION:2.0
CALSCALE:GREGORIAN
BEGIN:VEVENT
UID:1f323ed3176673c44b61ad334a38b72f
DTSTAMP:20260426T010242Z
SUMMARY:Na skok do divočiny
DTSTART;TZID=Europe/Prague:20260501T150000
DTEND;TZID=Europe/Prague:20260501T164500
LOCATION:Kino Aero
END:VEVENT
END:VCALENDAR
BEGIN:VCALENDAR
PRODID:-//eluceo/ical//2.0/EN
VERSION:2.0
CALSCALE:GREGORIAN
BEGIN:VEVENT
UID:e0ebd57ae0757b8fa36af8d50facd89c
DTSTAMP:20260426T010242Z
SUMMARY:Na skok do divočiny
DTSTART;TZID=Europe/Prague:20260501T150000
DTEND;TZID=Europe/Prague:20260501T164500
LOCATION:Kino Aero
END:VEVENT
END:VCALENDAR
