BEGIN:VCALENDAR
PRODID:-//eluceo/ical//2.0/EN
VERSION:2.0
CALSCALE:GREGORIAN
BEGIN:VEVENT
UID:74d9180639a7c991333a287b478088fd
DTSTAMP:20260423T191957Z
SUMMARY:Slyšíš mě?
DTSTART;TZID=Europe/Prague:20260609T173000
DTEND;TZID=Europe/Prague:20260609T190900
LOCATION:Bio Central
END:VEVENT
END:VCALENDAR
BEGIN:VCALENDAR
PRODID:-//eluceo/ical//2.0/EN
VERSION:2.0
CALSCALE:GREGORIAN
BEGIN:VEVENT
UID:b6d50f6194e06dba6d41d8f71e170ccb
DTSTAMP:20260423T191957Z
SUMMARY:Slyšíš mě?
DTSTART;TZID=Europe/Prague:20260609T173000
DTEND;TZID=Europe/Prague:20260609T190900
LOCATION:Bio Central
END:VEVENT
END:VCALENDAR
