BEGIN:VCALENDAR
PRODID:-//eluceo/ical//2.0/EN
VERSION:2.0
CALSCALE:GREGORIAN
BEGIN:VEVENT
UID:de40f518bd56adfd445e4623003d733b
DTSTAMP:20260425T193503Z
SUMMARY:Ďábel nosí Pradu 2
DTSTART;TZID=Europe/Prague:20260429T173000
DTEND;TZID=Europe/Prague:20260429T193000
LOCATION:Bio Central
END:VEVENT
END:VCALENDAR
BEGIN:VCALENDAR
PRODID:-//eluceo/ical//2.0/EN
VERSION:2.0
CALSCALE:GREGORIAN
BEGIN:VEVENT
UID:99c49eaf49e8deb81db4ab1311a75400
DTSTAMP:20260425T193503Z
SUMMARY:Ďábel nosí Pradu 2
DTSTART;TZID=Europe/Prague:20260429T173000
DTEND;TZID=Europe/Prague:20260429T193000
LOCATION:Bio Central
END:VEVENT
END:VCALENDAR
