BEGIN:VCALENDAR
PRODID:-//eluceo/ical//2.0/EN
VERSION:2.0
CALSCALE:GREGORIAN
BEGIN:VEVENT
UID:da5850c998f124d560f043a033cb24ad
DTSTAMP:20260425T193503Z
SUMMARY:Ďábel nosí Pradu 2
DTSTART;TZID=Europe/Prague:20260430T200000
DTEND;TZID=Europe/Prague:20260430T220000
LOCATION:Bio Central
END:VEVENT
END:VCALENDAR
BEGIN:VCALENDAR
PRODID:-//eluceo/ical//2.0/EN
VERSION:2.0
CALSCALE:GREGORIAN
BEGIN:VEVENT
UID:703170d988290a3f0267a607f67430cc
DTSTAMP:20260425T193503Z
SUMMARY:Ďábel nosí Pradu 2
DTSTART;TZID=Europe/Prague:20260430T200000
DTEND;TZID=Europe/Prague:20260430T220000
LOCATION:Bio Central
END:VEVENT
END:VCALENDAR
