BEGIN:VCALENDAR
PRODID:-//eluceo/ical//2.0/EN
VERSION:2.0
CALSCALE:GREGORIAN
BEGIN:VEVENT
UID:3c3ed7d75f40bfcb655e52fbf0779e2e
DTSTAMP:20260426T010437Z
SUMMARY:Na skok do divočiny
DTSTART;TZID=Europe/Prague:20260516T103000
DTEND;TZID=Europe/Prague:20260516T121500
LOCATION:Bio Central
END:VEVENT
END:VCALENDAR
BEGIN:VCALENDAR
PRODID:-//eluceo/ical//2.0/EN
VERSION:2.0
CALSCALE:GREGORIAN
BEGIN:VEVENT
UID:be4e5ebd5ce9ad1d51e14fea63e47ac0
DTSTAMP:20260426T010437Z
SUMMARY:Na skok do divočiny
DTSTART;TZID=Europe/Prague:20260516T103000
DTEND;TZID=Europe/Prague:20260516T121500
LOCATION:Bio Central
END:VEVENT
END:VCALENDAR
