BEGIN:VCALENDAR
PRODID:-//eluceo/ical//2.0/EN
VERSION:2.0
CALSCALE:GREGORIAN
BEGIN:VEVENT
UID:b06325c57b3adb7e09e447325374916d
DTSTAMP:20260425T213530Z
SUMMARY:Tajný agent
DTSTART;TZID=Europe/Prague:20260430T150000
DTEND;TZID=Europe/Prague:20260430T174100
LOCATION:Bio Oko
END:VEVENT
END:VCALENDAR
BEGIN:VCALENDAR
PRODID:-//eluceo/ical//2.0/EN
VERSION:2.0
CALSCALE:GREGORIAN
BEGIN:VEVENT
UID:b3d9d7ce9e87165e1635190d6f5ffd0c
DTSTAMP:20260425T213530Z
SUMMARY:Tajný agent
DTSTART;TZID=Europe/Prague:20260430T150000
DTEND;TZID=Europe/Prague:20260430T174100
LOCATION:Bio Oko
END:VEVENT
END:VCALENDAR
