BEGIN:VCALENDAR
PRODID:-//eluceo/ical//2.0/EN
VERSION:2.0
CALSCALE:GREGORIAN
BEGIN:VEVENT
UID:bb865480f04d30b647f0477a93dda744
DTSTAMP:20260425T193555Z
SUMMARY:Ďábel nosí Pradu 2
DTSTART;TZID=Europe/Prague:20260501T171500
DTEND;TZID=Europe/Prague:20260501T191500
LOCATION:Kino Přítomnost
END:VEVENT
END:VCALENDAR
BEGIN:VCALENDAR
PRODID:-//eluceo/ical//2.0/EN
VERSION:2.0
CALSCALE:GREGORIAN
BEGIN:VEVENT
UID:4e78bc1cdbc71640f1d8f361d79a6835
DTSTAMP:20260425T193555Z
SUMMARY:Ďábel nosí Pradu 2
DTSTART;TZID=Europe/Prague:20260501T171500
DTEND;TZID=Europe/Prague:20260501T191500
LOCATION:Kino Přítomnost
END:VEVENT
END:VCALENDAR
