BEGIN:VCALENDAR
PRODID:-//eluceo/ical//2.0/EN
VERSION:2.0
CALSCALE:GREGORIAN
BEGIN:VEVENT
UID:d883e7771f88ed98076fba863eae3a49
DTSTAMP:20260421T101738Z
SUMMARY:Drama
DTSTART;TZID=Europe/Prague:20260422T170000
DTEND;TZID=Europe/Prague:20260422T184600
LOCATION:Kino Přítomnost
END:VEVENT
END:VCALENDAR
BEGIN:VCALENDAR
PRODID:-//eluceo/ical//2.0/EN
VERSION:2.0
CALSCALE:GREGORIAN
BEGIN:VEVENT
UID:181ea243e4f042424a1cf1f40155aea7
DTSTAMP:20260421T101738Z
SUMMARY:Drama
DTSTART;TZID=Europe/Prague:20260422T170000
DTEND;TZID=Europe/Prague:20260422T184600
LOCATION:Kino Přítomnost
END:VEVENT
END:VCALENDAR
