BEGIN:VCALENDAR
PRODID:-//eluceo/ical//2.0/EN
VERSION:2.0
CALSCALE:GREGORIAN
BEGIN:VEVENT
UID:a18d3823f818a67dc2188001b83f2dca
DTSTAMP:20260421T102339Z
SUMMARY:Drama
DTSTART;TZID=Europe/Prague:20260422T204500
DTEND;TZID=Europe/Prague:20260422T223100
LOCATION:Kino Lucerna
END:VEVENT
END:VCALENDAR
BEGIN:VCALENDAR
PRODID:-//eluceo/ical//2.0/EN
VERSION:2.0
CALSCALE:GREGORIAN
BEGIN:VEVENT
UID:e2efe647de24c46d34aabbf09dad6fbc
DTSTAMP:20260421T102339Z
SUMMARY:Drama
DTSTART;TZID=Europe/Prague:20260422T204500
DTEND;TZID=Europe/Prague:20260422T223100
LOCATION:Kino Lucerna
END:VEVENT
END:VCALENDAR
