BEGIN:VCALENDAR
PRODID:-//eluceo/ical//2.0/EN
VERSION:2.0
CALSCALE:GREGORIAN
BEGIN:VEVENT
UID:e0e4c62a93bb07bf117d7b0b81947bba
DTSTAMP:20260421T102734Z
SUMMARY:Drama
DTSTART;TZID=Europe/Prague:20260422T151500
DTEND;TZID=Europe/Prague:20260422T170100
LOCATION:Kino Světozor
END:VEVENT
END:VCALENDAR
BEGIN:VCALENDAR
PRODID:-//eluceo/ical//2.0/EN
VERSION:2.0
CALSCALE:GREGORIAN
BEGIN:VEVENT
UID:144d1da8c1ca07cb61ea7e6dcf7f820b
DTSTAMP:20260421T102734Z
SUMMARY:Drama
DTSTART;TZID=Europe/Prague:20260422T151500
DTEND;TZID=Europe/Prague:20260422T170100
LOCATION:Kino Světozor
END:VEVENT
END:VCALENDAR
