BEGIN:VCALENDAR
PRODID:-//eluceo/ical//2.0/EN
VERSION:2.0
CALSCALE:GREGORIAN
BEGIN:VEVENT
UID:2b0431bcbe8d0eb4e372fab04dcdd13e
DTSTAMP:20260421T190037Z
SUMMARY:Otec Matka Sestra Bratr
DTSTART;TZID=Europe/Prague:20260421T174500
DTEND;TZID=Europe/Prague:20260421T193500
LOCATION:Kino Světozor
END:VEVENT
END:VCALENDAR
BEGIN:VCALENDAR
PRODID:-//eluceo/ical//2.0/EN
VERSION:2.0
CALSCALE:GREGORIAN
BEGIN:VEVENT
UID:ef59bb8166ad34ec4e34fb312bc72659
DTSTAMP:20260421T190037Z
SUMMARY:Otec Matka Sestra Bratr
DTSTART;TZID=Europe/Prague:20260421T174500
DTEND;TZID=Europe/Prague:20260421T193500
LOCATION:Kino Světozor
END:VEVENT
END:VCALENDAR
