BEGIN:VCALENDAR
PRODID:-//eluceo/ical//2.0/EN
VERSION:2.0
CALSCALE:GREGORIAN
BEGIN:VEVENT
UID:0fdafa65520f3aa74e0ce8903bd4a579
DTSTAMP:20260421T185721Z
SUMMARY:Otec Matka Sestra Bratr
DTSTART;TZID=Europe/Prague:20260422T174500
DTEND;TZID=Europe/Prague:20260422T193500
LOCATION:Kino Světozor
END:VEVENT
END:VCALENDAR
BEGIN:VCALENDAR
PRODID:-//eluceo/ical//2.0/EN
VERSION:2.0
CALSCALE:GREGORIAN
BEGIN:VEVENT
UID:03c1adf74115a99fcc61bd3d83fdafbd
DTSTAMP:20260421T185721Z
SUMMARY:Otec Matka Sestra Bratr
DTSTART;TZID=Europe/Prague:20260422T174500
DTEND;TZID=Europe/Prague:20260422T193500
LOCATION:Kino Světozor
END:VEVENT
END:VCALENDAR
