BEGIN:VCALENDAR
PRODID:-//eluceo/ical//2.0/EN
VERSION:2.0
CALSCALE:GREGORIAN
BEGIN:VEVENT
UID:358345208a04df254f5d226fbc17c936
DTSTAMP:20260421T102219Z
SUMMARY:Drama
DTSTART;TZID=Europe/Prague:20260422T180000
DTEND;TZID=Europe/Prague:20260422T194600
LOCATION:Kino Světozor
END:VEVENT
END:VCALENDAR
BEGIN:VCALENDAR
PRODID:-//eluceo/ical//2.0/EN
VERSION:2.0
CALSCALE:GREGORIAN
BEGIN:VEVENT
UID:0f8487ae16dcb00f4d2d7b969d8c6549
DTSTAMP:20260421T102219Z
SUMMARY:Drama
DTSTART;TZID=Europe/Prague:20260422T180000
DTEND;TZID=Europe/Prague:20260422T194600
LOCATION:Kino Světozor
END:VEVENT
END:VCALENDAR
