BEGIN:VCALENDAR
PRODID:-//eluceo/ical//2.0/EN
VERSION:2.0
CALSCALE:GREGORIAN
BEGIN:VEVENT
UID:e6609311b4f658f1509fe61ce55da49e
DTSTAMP:20260421T102509Z
SUMMARY:Drama
DTSTART;TZID=Europe/Prague:20260423T200000
DTEND;TZID=Europe/Prague:20260423T214600
LOCATION:Univerzitní kino Scala
END:VEVENT
END:VCALENDAR
BEGIN:VCALENDAR
PRODID:-//eluceo/ical//2.0/EN
VERSION:2.0
CALSCALE:GREGORIAN
BEGIN:VEVENT
UID:2acd66c938763e849976ab2f1b19139f
DTSTAMP:20260421T102509Z
SUMMARY:Drama
DTSTART;TZID=Europe/Prague:20260423T200000
DTEND;TZID=Europe/Prague:20260423T214600
LOCATION:Univerzitní kino Scala
END:VEVENT
END:VCALENDAR
