BEGIN:VCALENDAR
PRODID:-//eluceo/ical//2.0/EN
VERSION:2.0
CALSCALE:GREGORIAN
BEGIN:VEVENT
UID:bbbcdbe0b04963a3ba726da8e663b359
DTSTAMP:20260421T102928Z
SUMMARY:Drama
DTSTART;TZID=Europe/Prague:20260425T200000
DTEND;TZID=Europe/Prague:20260425T214600
LOCATION:Univerzitní kino Scala
END:VEVENT
END:VCALENDAR
BEGIN:VCALENDAR
PRODID:-//eluceo/ical//2.0/EN
VERSION:2.0
CALSCALE:GREGORIAN
BEGIN:VEVENT
UID:11bded7ce77f39fd884da3098cec5345
DTSTAMP:20260421T102928Z
SUMMARY:Drama
DTSTART;TZID=Europe/Prague:20260425T200000
DTEND;TZID=Europe/Prague:20260425T214600
LOCATION:Univerzitní kino Scala
END:VEVENT
END:VCALENDAR
