BEGIN:VCALENDAR
PRODID:-//eluceo/ical//2.0/EN
VERSION:2.0
CALSCALE:GREGORIAN
BEGIN:VEVENT
UID:7b2cafba61053b80627745276d23f43f
DTSTAMP:20260421T102010Z
SUMMARY:Drama
DTSTART;TZID=Europe/Prague:20260428T173000
DTEND;TZID=Europe/Prague:20260428T191600
LOCATION:Univerzitní kino Scala
END:VEVENT
END:VCALENDAR
BEGIN:VCALENDAR
PRODID:-//eluceo/ical//2.0/EN
VERSION:2.0
CALSCALE:GREGORIAN
BEGIN:VEVENT
UID:04121fb663eac3575ce39a9fd816520b
DTSTAMP:20260421T102010Z
SUMMARY:Drama
DTSTART;TZID=Europe/Prague:20260428T173000
DTEND;TZID=Europe/Prague:20260428T191600
LOCATION:Univerzitní kino Scala
END:VEVENT
END:VCALENDAR
