BEGIN:VCALENDAR
PRODID:-//eluceo/ical//2.0/EN
VERSION:2.0
CALSCALE:GREGORIAN
BEGIN:VEVENT
UID:31147851dbc0e3fa8e18f794ba7570e0
DTSTAMP:20260425T152733Z
SUMMARY:Slepice
DTSTART;TZID=Europe/Prague:20260427T174500
DTEND;TZID=Europe/Prague:20260427T192100
LOCATION:Univerzitní kino Scala
END:VEVENT
END:VCALENDAR
BEGIN:VCALENDAR
PRODID:-//eluceo/ical//2.0/EN
VERSION:2.0
CALSCALE:GREGORIAN
BEGIN:VEVENT
UID:bad653a3fb8b98c1f7bc94835a4ae4ce
DTSTAMP:20260425T152733Z
SUMMARY:Slepice
DTSTART;TZID=Europe/Prague:20260427T174500
DTEND;TZID=Europe/Prague:20260427T192100
LOCATION:Univerzitní kino Scala
END:VEVENT
END:VCALENDAR
