BEGIN:VCALENDAR
PRODID:-//eluceo/ical//2.0/EN
VERSION:2.0
CALSCALE:GREGORIAN
BEGIN:VEVENT
UID:db262d99203c3162c52a12b75bf90261
DTSTAMP:20260425T191621Z
SUMMARY:Dva prokurátoři
DTSTART;TZID=Europe/Prague:20260505T140000
DTEND;TZID=Europe/Prague:20260505T155800
LOCATION:Bio Central
END:VEVENT
END:VCALENDAR
BEGIN:VCALENDAR
PRODID:-//eluceo/ical//2.0/EN
VERSION:2.0
CALSCALE:GREGORIAN
BEGIN:VEVENT
UID:2fa0197cdcc16f7538c401672b0d4ced
DTSTAMP:20260425T191621Z
SUMMARY:Dva prokurátoři
DTSTART;TZID=Europe/Prague:20260505T140000
DTEND;TZID=Europe/Prague:20260505T155800
LOCATION:Bio Central
END:VEVENT
END:VCALENDAR
