BEGIN:VCALENDAR
PRODID:-//eluceo/ical//2.0/EN
VERSION:2.0
CALSCALE:GREGORIAN
BEGIN:VEVENT
UID:8c65faf17efafdfcbc8e4f01c37ca738
DTSTAMP:20260425T153827Z
SUMMARY:Hlas Hind Radžab
DTSTART;TZID=Europe/Prague:20260515T143000
DTEND;TZID=Europe/Prague:20260515T155900
LOCATION:Bio Central
END:VEVENT
END:VCALENDAR
BEGIN:VCALENDAR
PRODID:-//eluceo/ical//2.0/EN
VERSION:2.0
CALSCALE:GREGORIAN
BEGIN:VEVENT
UID:3b50b9d8c7912b9bf79bbb40a6852fb5
DTSTAMP:20260425T153827Z
SUMMARY:Hlas Hind Radžab
DTSTART;TZID=Europe/Prague:20260515T143000
DTEND;TZID=Europe/Prague:20260515T155900
LOCATION:Bio Central
END:VEVENT
END:VCALENDAR
