BEGIN:VCALENDAR
PRODID:-//eluceo/ical//2.0/EN
VERSION:2.0
CALSCALE:GREGORIAN
BEGIN:VEVENT
UID:07645009681802bf078b497ceaa61142
DTSTAMP:20260421T102702Z
SUMMARY:Drama
DTSTART;TZID=Europe/Prague:20260522T143000
DTEND;TZID=Europe/Prague:20260522T161600
LOCATION:Bio Central
END:VEVENT
END:VCALENDAR
BEGIN:VCALENDAR
PRODID:-//eluceo/ical//2.0/EN
VERSION:2.0
CALSCALE:GREGORIAN
BEGIN:VEVENT
UID:acb170dc7459d08d6a8d8f5c97738162
DTSTAMP:20260421T102702Z
SUMMARY:Drama
DTSTART;TZID=Europe/Prague:20260522T143000
DTEND;TZID=Europe/Prague:20260522T161600
LOCATION:Bio Central
END:VEVENT
END:VCALENDAR
