BEGIN:VCALENDAR
PRODID:-//eluceo/ical//2.0/EN
VERSION:2.0
CALSCALE:GREGORIAN
BEGIN:VEVENT
UID:91c6fed638db092945ee249208ce000e
DTSTAMP:20260425T193148Z
SUMMARY:Ďábel nosí Pradu 2
DTSTART;TZID=Europe/Prague:20260429T203000
DTEND;TZID=Europe/Prague:20260429T223000
LOCATION:Kino Přítomnost
END:VEVENT
END:VCALENDAR
BEGIN:VCALENDAR
PRODID:-//eluceo/ical//2.0/EN
VERSION:2.0
CALSCALE:GREGORIAN
BEGIN:VEVENT
UID:31cdcd2d18f909909fa093b548a75b84
DTSTAMP:20260425T193148Z
SUMMARY:Ďábel nosí Pradu 2
DTSTART;TZID=Europe/Prague:20260429T203000
DTEND;TZID=Europe/Prague:20260429T223000
LOCATION:Kino Přítomnost
END:VEVENT
END:VCALENDAR
