BEGIN:VCALENDAR
PRODID:-//eluceo/ical//2.0/EN
VERSION:2.0
CALSCALE:GREGORIAN
BEGIN:VEVENT
UID:0ff92be70475560f2256d8805fe8fe5b
DTSTAMP:20260421T102359Z
SUMMARY:Drama
DTSTART;TZID=Europe/Prague:20260501T130000
DTEND;TZID=Europe/Prague:20260501T144600
LOCATION:Kino Lucerna
END:VEVENT
END:VCALENDAR
BEGIN:VCALENDAR
PRODID:-//eluceo/ical//2.0/EN
VERSION:2.0
CALSCALE:GREGORIAN
BEGIN:VEVENT
UID:2b057905323172c47c8343753a63d5c2
DTSTAMP:20260421T102359Z
SUMMARY:Drama
DTSTART;TZID=Europe/Prague:20260501T130000
DTEND;TZID=Europe/Prague:20260501T144600
LOCATION:Kino Lucerna
END:VEVENT
END:VCALENDAR
