BEGIN:VCALENDAR
PRODID:-//eluceo/ical//2.0/EN
VERSION:2.0
CALSCALE:GREGORIAN
BEGIN:VEVENT
UID:9908676a29484d685594a06d94977c90
DTSTAMP:20260425T152619Z
SUMMARY:Slepice
DTSTART;TZID=Europe/Prague:20260506T150000
DTEND;TZID=Europe/Prague:20260506T163600
LOCATION:Kino Lucerna
END:VEVENT
END:VCALENDAR
BEGIN:VCALENDAR
PRODID:-//eluceo/ical//2.0/EN
VERSION:2.0
CALSCALE:GREGORIAN
BEGIN:VEVENT
UID:eae8a0f8bde65f2777495979fc10a365
DTSTAMP:20260425T152619Z
SUMMARY:Slepice
DTSTART;TZID=Europe/Prague:20260506T150000
DTEND;TZID=Europe/Prague:20260506T163600
LOCATION:Kino Lucerna
END:VEVENT
END:VCALENDAR
