BEGIN:VCALENDAR
PRODID:-//eluceo/ical//2.0/EN
VERSION:2.0
CALSCALE:GREGORIAN
BEGIN:VEVENT
UID:ddc739561c8f40a0d0bc23ae878037ce
DTSTAMP:20260421T101926Z
SUMMARY:Drama
DTSTART;TZID=Europe/Prague:20260424T203000
DTEND;TZID=Europe/Prague:20260424T221600
LOCATION:Kino Přítomnost
END:VEVENT
END:VCALENDAR
BEGIN:VCALENDAR
PRODID:-//eluceo/ical//2.0/EN
VERSION:2.0
CALSCALE:GREGORIAN
BEGIN:VEVENT
UID:8513293356ba99a2540a7f16ea2c570b
DTSTAMP:20260421T101926Z
SUMMARY:Drama
DTSTART;TZID=Europe/Prague:20260424T203000
DTEND;TZID=Europe/Prague:20260424T221600
LOCATION:Kino Přítomnost
END:VEVENT
END:VCALENDAR
