BEGIN:VCALENDAR
PRODID:-//eluceo/ical//2.0/EN
VERSION:2.0
CALSCALE:GREGORIAN
BEGIN:VEVENT
UID:0bde3910257952d8c0513bb4c581aecf
DTSTAMP:20260421T102219Z
SUMMARY:Drama
DTSTART;TZID=Europe/Prague:20260425T143000
DTEND;TZID=Europe/Prague:20260425T161600
LOCATION:Kino Přítomnost
END:VEVENT
END:VCALENDAR
BEGIN:VCALENDAR
PRODID:-//eluceo/ical//2.0/EN
VERSION:2.0
CALSCALE:GREGORIAN
BEGIN:VEVENT
UID:3fc612ad9b9df04be7c116c95ee34d2a
DTSTAMP:20260421T102219Z
SUMMARY:Drama
DTSTART;TZID=Europe/Prague:20260425T143000
DTEND;TZID=Europe/Prague:20260425T161600
LOCATION:Kino Přítomnost
END:VEVENT
END:VCALENDAR
