BEGIN:VCALENDAR
PRODID:-//eluceo/ical//2.0/EN
VERSION:2.0
CALSCALE:GREGORIAN
BEGIN:VEVENT
UID:fa7a44cb252252c14ad363e0f4bce197
DTSTAMP:20260425T152608Z
SUMMARY:Slepice
DTSTART;TZID=Europe/Prague:20260426T170000
DTEND;TZID=Europe/Prague:20260426T183600
LOCATION:Kino Přítomnost
END:VEVENT
END:VCALENDAR
BEGIN:VCALENDAR
PRODID:-//eluceo/ical//2.0/EN
VERSION:2.0
CALSCALE:GREGORIAN
BEGIN:VEVENT
UID:5a769c2ff9528da75646501f0b676c50
DTSTAMP:20260425T152608Z
SUMMARY:Slepice
DTSTART;TZID=Europe/Prague:20260426T170000
DTEND;TZID=Europe/Prague:20260426T183600
LOCATION:Kino Přítomnost
END:VEVENT
END:VCALENDAR
