BEGIN:VCALENDAR
PRODID:-//eluceo/ical//2.0/EN
VERSION:2.0
CALSCALE:GREGORIAN
BEGIN:VEVENT
UID:d4ff444e9bb47471b246a9bf5d632054
DTSTAMP:20260421T102320Z
SUMMARY:Drama
DTSTART;TZID=Europe/Prague:20260429T173000
DTEND;TZID=Europe/Prague:20260429T191600
LOCATION:Kino Přítomnost
END:VEVENT
END:VCALENDAR
BEGIN:VCALENDAR
PRODID:-//eluceo/ical//2.0/EN
VERSION:2.0
CALSCALE:GREGORIAN
BEGIN:VEVENT
UID:6dce23c64d81c71aad2865520cef4178
DTSTAMP:20260421T102320Z
SUMMARY:Drama
DTSTART;TZID=Europe/Prague:20260429T173000
DTEND;TZID=Europe/Prague:20260429T191600
LOCATION:Kino Přítomnost
END:VEVENT
END:VCALENDAR
