BEGIN:VCALENDAR
PRODID:-//eluceo/ical//2.0/EN
VERSION:2.0
CALSCALE:GREGORIAN
BEGIN:VEVENT
UID:54bae96d1eb58a796d94c7e947cb158b
DTSTAMP:20260425T152834Z
SUMMARY:Šepot lesa
DTSTART;TZID=Europe/Prague:20260518T150000
DTEND;TZID=Europe/Prague:20260518T163500
LOCATION:Kino Lucerna
END:VEVENT
END:VCALENDAR
BEGIN:VCALENDAR
PRODID:-//eluceo/ical//2.0/EN
VERSION:2.0
CALSCALE:GREGORIAN
BEGIN:VEVENT
UID:a63388f0a0494f91c5c92cf0e8d3f234
DTSTAMP:20260425T152834Z
SUMMARY:Šepot lesa
DTSTART;TZID=Europe/Prague:20260518T150000
DTEND;TZID=Europe/Prague:20260518T163500
LOCATION:Kino Lucerna
END:VEVENT
END:VCALENDAR
