BEGIN:VCALENDAR
PRODID:-//eluceo/ical//2.0/EN
VERSION:2.0
CALSCALE:GREGORIAN
BEGIN:VEVENT
UID:2686f040bb3324bf02248ca2f80aaab1
DTSTAMP:20260421T101942Z
SUMMARY:Drama
DTSTART;TZID=Europe/Prague:20260515T130000
DTEND;TZID=Europe/Prague:20260515T144600
LOCATION:Kino Lucerna
END:VEVENT
END:VCALENDAR
BEGIN:VCALENDAR
PRODID:-//eluceo/ical//2.0/EN
VERSION:2.0
CALSCALE:GREGORIAN
BEGIN:VEVENT
UID:62e19892b499d1c7771a28b028a8d612
DTSTAMP:20260421T101942Z
SUMMARY:Drama
DTSTART;TZID=Europe/Prague:20260515T130000
DTEND;TZID=Europe/Prague:20260515T144600
LOCATION:Kino Lucerna
END:VEVENT
END:VCALENDAR
