BEGIN:VCALENDAR
PRODID:-//eluceo/ical//2.0/EN
VERSION:2.0
CALSCALE:GREGORIAN
BEGIN:VEVENT
UID:316a784de28d6d277361f3c0f611da26
DTSTAMP:20260425T192908Z
SUMMARY:Ďábel nosí Pradu 2
DTSTART;TZID=Europe/Prague:20260529T130000
DTEND;TZID=Europe/Prague:20260529T150000
LOCATION:Kino Lucerna
END:VEVENT
END:VCALENDAR
BEGIN:VCALENDAR
PRODID:-//eluceo/ical//2.0/EN
VERSION:2.0
CALSCALE:GREGORIAN
BEGIN:VEVENT
UID:b93ce5d09a68490ef738dd4066302fc3
DTSTAMP:20260425T192908Z
SUMMARY:Ďábel nosí Pradu 2
DTSTART;TZID=Europe/Prague:20260529T130000
DTEND;TZID=Europe/Prague:20260529T150000
LOCATION:Kino Lucerna
END:VEVENT
END:VCALENDAR
