BEGIN:VCALENDAR
PRODID:-//eluceo/ical//2.0/EN
VERSION:2.0
CALSCALE:GREGORIAN
BEGIN:VEVENT
UID:6c3deea0a89efc43f34d5df8f5f32a52
DTSTAMP:20260421T101856Z
SUMMARY:Drama
DTSTART;TZID=Europe/Prague:20260505T150000
DTEND;TZID=Europe/Prague:20260505T164600
LOCATION:Kino Světozor
END:VEVENT
END:VCALENDAR
BEGIN:VCALENDAR
PRODID:-//eluceo/ical//2.0/EN
VERSION:2.0
CALSCALE:GREGORIAN
BEGIN:VEVENT
UID:a0ad4780dc41bcb8b7be8093fad10e4f
DTSTAMP:20260421T101856Z
SUMMARY:Drama
DTSTART;TZID=Europe/Prague:20260505T150000
DTEND;TZID=Europe/Prague:20260505T164600
LOCATION:Kino Světozor
END:VEVENT
END:VCALENDAR
