BEGIN:VCALENDAR
PRODID:-//eluceo/ical//2.0/EN
VERSION:2.0
CALSCALE:GREGORIAN
BEGIN:VEVENT
UID:574f07b49a0e59d1fd7e08ea105a1dd0
DTSTAMP:20260421T101738Z
SUMMARY:Drama
DTSTART;TZID=Europe/Prague:20260514T150000
DTEND;TZID=Europe/Prague:20260514T164600
LOCATION:Kino Světozor
END:VEVENT
END:VCALENDAR
BEGIN:VCALENDAR
PRODID:-//eluceo/ical//2.0/EN
VERSION:2.0
CALSCALE:GREGORIAN
BEGIN:VEVENT
UID:9bac08f49061daa49817aaf39ca34d51
DTSTAMP:20260421T101738Z
SUMMARY:Drama
DTSTART;TZID=Europe/Prague:20260514T150000
DTEND;TZID=Europe/Prague:20260514T164600
LOCATION:Kino Světozor
END:VEVENT
END:VCALENDAR
