BEGIN:VCALENDAR
PRODID:-//eluceo/ical//2.0/EN
VERSION:2.0
CALSCALE:GREGORIAN
BEGIN:VEVENT
UID:a1aad2ef10e1f87cf9c7b072eaadc341
DTSTAMP:20260425T152945Z
SUMMARY:Slepice
DTSTART;TZID=Europe/Prague:20260512T150000
DTEND;TZID=Europe/Prague:20260512T163600
LOCATION:Kino Světozor
END:VEVENT
END:VCALENDAR
BEGIN:VCALENDAR
PRODID:-//eluceo/ical//2.0/EN
VERSION:2.0
CALSCALE:GREGORIAN
BEGIN:VEVENT
UID:3fdb73e4d6beaabcf6729a1b86658805
DTSTAMP:20260425T152945Z
SUMMARY:Slepice
DTSTART;TZID=Europe/Prague:20260512T150000
DTEND;TZID=Europe/Prague:20260512T163600
LOCATION:Kino Světozor
END:VEVENT
END:VCALENDAR
