BEGIN:VCALENDAR
PRODID:-//eluceo/ical//2.0/EN
VERSION:2.0
CALSCALE:GREGORIAN
BEGIN:VEVENT
UID:d014b95a339ac437b20f1060aa097222
DTSTAMP:20260425T192908Z
SUMMARY:Co nám zbylo z lásky
DTSTART;TZID=Europe/Prague:20260528T150000
DTEND;TZID=Europe/Prague:20260528T164900
LOCATION:Kino Světozor
END:VEVENT
END:VCALENDAR
BEGIN:VCALENDAR
PRODID:-//eluceo/ical//2.0/EN
VERSION:2.0
CALSCALE:GREGORIAN
BEGIN:VEVENT
UID:d6c9fc95b48fbf9fbd4564b95762f649
DTSTAMP:20260425T192908Z
SUMMARY:Co nám zbylo z lásky
DTSTART;TZID=Europe/Prague:20260528T150000
DTEND;TZID=Europe/Prague:20260528T164900
LOCATION:Kino Světozor
END:VEVENT
END:VCALENDAR
