BEGIN:VCALENDAR
PRODID:-//eluceo/ical//2.0/EN
VERSION:2.0
CALSCALE:GREGORIAN
BEGIN:VEVENT
UID:672f1824832b6ab0b19108834d7c17c9
DTSTAMP:20260425T193020Z
SUMMARY:Ďábel nosí Pradu 2
DTSTART;TZID=Europe/Prague:20260529T150000
DTEND;TZID=Europe/Prague:20260529T170000
LOCATION:Kino Světozor
END:VEVENT
END:VCALENDAR
BEGIN:VCALENDAR
PRODID:-//eluceo/ical//2.0/EN
VERSION:2.0
CALSCALE:GREGORIAN
BEGIN:VEVENT
UID:a7ed6cd1b31833e0ec369b4303bd1795
DTSTAMP:20260425T193020Z
SUMMARY:Ďábel nosí Pradu 2
DTSTART;TZID=Europe/Prague:20260529T150000
DTEND;TZID=Europe/Prague:20260529T170000
LOCATION:Kino Světozor
END:VEVENT
END:VCALENDAR
