BEGIN:VCALENDAR
PRODID:-//eluceo/ical//2.0/EN
VERSION:2.0
CALSCALE:GREGORIAN
BEGIN:VEVENT
UID:8b028672e21e340e6501988c449380d2
DTSTAMP:20260421T102134Z
SUMMARY:Drama
DTSTART;TZID=Europe/Prague:20260426T203000
DTEND;TZID=Europe/Prague:20260426T221600
LOCATION:Kino Aero
END:VEVENT
END:VCALENDAR
BEGIN:VCALENDAR
PRODID:-//eluceo/ical//2.0/EN
VERSION:2.0
CALSCALE:GREGORIAN
BEGIN:VEVENT
UID:cc41537bbd230c2e184e2e650fb1e9bd
DTSTAMP:20260421T102134Z
SUMMARY:Drama
DTSTART;TZID=Europe/Prague:20260426T203000
DTEND;TZID=Europe/Prague:20260426T221600
LOCATION:Kino Aero
END:VEVENT
END:VCALENDAR
