BEGIN:VCALENDAR
PRODID:-//eluceo/ical//2.0/EN
VERSION:2.0
CALSCALE:GREGORIAN
BEGIN:VEVENT
UID:31032c19bfef3873e739268a7ebd60c1
DTSTAMP:20260425T153919Z
SUMMARY:Pillion
DTSTART;TZID=Europe/Prague:20260427T180000
DTEND;TZID=Europe/Prague:20260427T194300
LOCATION:Kino Aero
END:VEVENT
END:VCALENDAR
BEGIN:VCALENDAR
PRODID:-//eluceo/ical//2.0/EN
VERSION:2.0
CALSCALE:GREGORIAN
BEGIN:VEVENT
UID:1c9cb4e7a0b5f7163b647ddc8f2e1288
DTSTAMP:20260425T153919Z
SUMMARY:Pillion
DTSTART;TZID=Europe/Prague:20260427T180000
DTEND;TZID=Europe/Prague:20260427T194300
LOCATION:Kino Aero
END:VEVENT
END:VCALENDAR
