BEGIN:VCALENDAR
PRODID:-//eluceo/ical//2.0/EN
VERSION:2.0
CALSCALE:GREGORIAN
BEGIN:VEVENT
UID:331f709c7fe1fa546cdbea3adf36ea7e
DTSTAMP:20260421T102637Z
SUMMARY:Drama
DTSTART;TZID=Europe/Prague:20260428T203000
DTEND;TZID=Europe/Prague:20260428T221600
LOCATION:Kino Aero
END:VEVENT
END:VCALENDAR
BEGIN:VCALENDAR
PRODID:-//eluceo/ical//2.0/EN
VERSION:2.0
CALSCALE:GREGORIAN
BEGIN:VEVENT
UID:39a968eb5f272a1b87becaa1ddefda1a
DTSTAMP:20260421T102637Z
SUMMARY:Drama
DTSTART;TZID=Europe/Prague:20260428T203000
DTEND;TZID=Europe/Prague:20260428T221600
LOCATION:Kino Aero
END:VEVENT
END:VCALENDAR
